BEGIN:VCALENDAR
VERSION:2.0
PRODID:-//B型企業協會 B Lab Taiwan - ECPv6.14.1//NONSGML v1.0//EN
CALSCALE:GREGORIAN
METHOD:PUBLISH
X-ORIGINAL-URL:https://bcorporation.tw
X-WR-CALDESC:Events for B型企業協會 B Lab Taiwan
REFRESH-INTERVAL;VALUE=DURATION:PT1H
X-Robots-Tag:noindex
X-PUBLISHED-TTL:PT1H
BEGIN:VTIMEZONE
TZID:Asia/Taipei
BEGIN:STANDARD
TZOFFSETFROM:+0800
TZOFFSETTO:+0800
TZNAME:CST
DTSTART:20250101T000000
END:STANDARD
END:VTIMEZONE
BEGIN:VEVENT
DTSTART;TZID=Asia/Taipei:20250917T133000
DTEND;TZID=Asia/Taipei:20250917T170000
DTSTAMP:20260426T064525
CREATED:20251124T101102Z
LAST-MODIFIED:20251124T105140Z
UID:12412-1758115800-1758128400@bcorporation.tw
SUMMARY:【Business FOR Good主題課程】超越交易關係：打造員工與客戶都「超有感」的企業核心價值！
DESCRIPTION:企業為何存在？ — 讓企業不只是賺錢，更是解決問題的一股堅實力量！ \n來自台中工具機產業、已接班的二代阿昌，曾帶領團隊完成一項艱鉅的特殊客製案。案子最終成功，卻歷經重重挑戰。令人動容的是，他與夥伴堅持到底的理由，居然不是為了利潤。 \n有人問：「什麼讓你們願意這樣撐下去？」阿昌堅定地回答：「我們是台灣國家隊，為推動台灣高鐵自製化責無旁貸！」 \n但撐起了台灣經濟的半邊天的中小企業，卻正面臨「接不了班」困境，企業創一代是為了賺錢，下一代卻不想只賺錢，更渴望的是讓工作有意義！ \n因此，企業為何存在的意義不是哲學問題，而是攸關未來「傳承與永續」經營的核心競爭實力！ \n這是一場企業重新找回初衷與未來方向的行動邀請，一起為你的企業重新定義「為何而做」，打造真正「超有感」的企業價值！ \n現在，就讓你帶領的企業，從利潤導向，邁向價值驅動！ \n立即報名：https://www.accupass.com/go/202526BFGclass1 \n重量級講者\n優樂地永續 蔡承璋 執行長、成真咖啡 王國雄 董事長、美科實業 陳俊偉 創辦人 \n本課程將帶領你學會\n●從企業本質出發，定義出真誠又具號召力的使命\n●建立能夠吸引人才、感動客戶、說服投資人、打動媒體的新價值\n●透過案例學習，讓使命不只是口號，而是融入日常營運的指南針 \n適用對象\n企業主、接班人、品牌經營者、及任何想讓企業更有意義的領導者\n建議每家企業派出2位相關主管參與，以確保課程內容能完整掌握並有效落實於企業內部 \n活動資訊\n活動時間： 9月17日（三）13:30-17:00\n活動地點：台北政大公企中心（台北市大安區金華街187號）\n費用：每堂課程6\,000元\n全額補助：由倡議夥伴推薦並經審核通過者，可獲得100%全額補助。（特別感謝嘉威聯合會計師事務所的贊助） \n更多Business FOR Good 永續競爭力課程：https://businessforgood.asia/activity/ \n 
URL:https://bcorporation.tw/event-date/%e3%80%90business-for-good%e4%b8%bb%e9%a1%8c%e8%aa%b2%e7%a8%8b%e3%80%91%e8%b6%85%e8%b6%8a%e4%ba%a4%e6%98%93%e9%97%9c%e4%bf%82%ef%bc%9a%e6%89%93%e9%80%a0%e5%93%a1%e5%b7%a5%e8%88%87%e5%ae%a2%e6%88%b6/
LOCATION:政大公企中心\, 金華街187號\, 台北市
CATEGORIES:Business FOR Good
ATTACH;FMTTYPE=image/png:https://bcorporation.tw/wp-content/uploads/2025/11/BFG-2025-Y2-企業核心價值-1080x540-1.png
END:VEVENT
END:VCALENDAR