BEGIN:VCALENDAR
VERSION:2.0
PRODID:-//B型企業協會 B Lab Taiwan - ECPv6.14.1//NONSGML v1.0//EN
CALSCALE:GREGORIAN
METHOD:PUBLISH
X-WR-CALNAME:B型企業協會 B Lab Taiwan
X-ORIGINAL-URL:https://bcorporation.tw
X-WR-CALDESC:Events for B型企業協會 B Lab Taiwan
REFRESH-INTERVAL;VALUE=DURATION:PT1H
X-Robots-Tag:noindex
X-PUBLISHED-TTL:PT1H
BEGIN:VTIMEZONE
TZID:Asia/Taipei
BEGIN:STANDARD
TZOFFSETFROM:+0800
TZOFFSETTO:+0800
TZNAME:CST
DTSTART:20250101T000000
END:STANDARD
END:VTIMEZONE
BEGIN:VEVENT
DTSTART;TZID=Asia/Taipei:20250923T130000
DTEND;TZID=Asia/Taipei:20250923T163000
DTSTAMP:20260426T064750
CREATED:20251022T061137Z
LAST-MODIFIED:20251022T061137Z
UID:12316-1758632400-1758645000@bcorporation.tw
SUMMARY:【B Together／新標準分享】公平職場 × 多元共融：中小企業的職場競爭力新關鍵
DESCRIPTION:在大缺工時代，企業要吸引、留住人才，靠的不是加薪競賽，而是打造「公平、共融、讓人安心」的職場文化！ \n✨9/23【B Together】活動將解讀 B Impact 新標準（公平職場、JEDI），說明新標準如何為企業提供清晰的成長指引，並與全球最佳實踐接軌。更邀請嘉澎、美科 2家 B 型企業夥伴分享真實案例：如何收集員工意見、推動不看學歷只看能力的包容性招募、提供額外帶薪休假，以及運用員工協助方案（EAP）支持心理與生活需求。 \n這些經驗將啟發你，幫助企業在提升競爭力的同時，打造更具包容性的文化。 \n【活動資訊】\n時間：9/23（二）13:30-16:00 （13:00 開放報到）\n地點：\n實體參與：萬通教室（台北市中山區松江路200號12樓，近捷運行天宮站）\n線上參與： Zoom會議室 （僅開放講座）\n報名審核：\nB型企業與協會組織共好夥伴，每家企業最多限兩位報名。\n協會個人共好夥伴（個人共好夥伴僅限本人參與）\nB型顧問、管理師 \n \n\n\n【精采活動回顧～ B Together 新標準分享：公平職場 x 多元共融：中小企業的職場競爭力新關鍵】
URL:https://bcorporation.tw/event-date/%e3%80%90b-together%ef%bc%8f%e6%96%b0%e6%a8%99%e6%ba%96%e5%88%86%e4%ba%ab%e3%80%91%e5%85%ac%e5%b9%b3%e8%81%b7%e5%a0%b4-x-%e5%a4%9a%e5%85%83%e5%85%b1%e8%9e%8d%ef%bc%9a%e4%b8%ad%e5%b0%8f%e4%bc%81/
CATEGORIES:B社群活動,提升企業ESG
ATTACH;FMTTYPE=image/png:https://bcorporation.tw/wp-content/uploads/2025/10/2025-0923-B-Together新標準分享_主圖Banner.png
END:VEVENT
END:VCALENDAR