BEGIN:VCALENDAR
VERSION:2.0
PRODID:-//B型企業協會 B Lab Taiwan - ECPv6.14.1//NONSGML v1.0//EN
CALSCALE:GREGORIAN
METHOD:PUBLISH
X-ORIGINAL-URL:https://bcorporation.tw
X-WR-CALDESC:Events for B型企業協會 B Lab Taiwan
REFRESH-INTERVAL;VALUE=DURATION:PT1H
X-Robots-Tag:noindex
X-PUBLISHED-TTL:PT1H
BEGIN:VTIMEZONE
TZID:Asia/Taipei
BEGIN:STANDARD
TZOFFSETFROM:+0800
TZOFFSETTO:+0800
TZNAME:CST
DTSTART:20260101T000000
END:STANDARD
END:VTIMEZONE
BEGIN:VEVENT
DTSTART;VALUE=DATE:20260310
DTEND;VALUE=DATE:20261209
DTSTAMP:20260426T002815
CREATED:20250313T025350Z
LAST-MODIFIED:20260223T091946Z
UID:8883-1773100800-1796774399@bcorporation.tw
SUMMARY:B型企業線上說明會
DESCRIPTION:身為領袖的您是否能將您的企業ESG轉型成功呢？ \n邀請您認識「對世界最好」的B型企業 \n企業領袖花時間、資源在什麼策略及行動上，就能直接影響企業的營運及文化，間接吸引到認同這樣價值觀的投資者、消費者。您所領導的企業，是否希望能往ESG轉型呢？ \n認證的B型企業B Corporations®（B Corps™）是藉由商業力量建立更具包容性和永續經濟的營利性公司。認證的B型企業是符合高度驗證的社會和環境績效、當責、透明度的企業。在全球超過161個產業和93個國家中，共有超過9\,500家取得認證的B型企業。 \n若您正在尋找推動企業ESG落實的指引與工具、或期待取得國際認證為品牌加值，將ESG深入企業的商業模式與營運管理中，成為企業發展藍圖的策略指引，千萬別錯過－－ \n《B型企業線上說明會》\n時間：13:00-13:30（12:50開放入場）\n場次：2026全年度，每季一場 \n03/10(二)、06/09(二)、09/08(二)、12/08(二) \n形式：線上說明會\n內容：B型企業介紹、認證申請流程、Q&A\n費用：免費參與 ，報名請點此連結 \n  \n→什麼是B型企業？ \n→開始企業的永續第一步 \n  \n關於B型企業協會B Lab Taiwan \nB型企業協會是B型實驗室(B Lab)全球夥伴的一員，致力推動使命與獲利平衡的影響力商業模式，用商業力量發揮對社會與環境正面的影響力，協助企業成為對世界最好(Best for the World)的企業。透過全球二十萬多家企業已採用的商業影響力評估(B Impact Assessment\, BIA)管理平台，企業能從永續健檢開始、持續改善並建置實踐藍圖，以控管風險、提升營運競爭力，確實掌握全球永續ESG商機。 \n官方網站：http://bcorporation.tw/\n粉絲專頁：http://www.facebook.com/blabtaiwan/\n捐1%給地球：https://www.onepercentfortheplanet.org/ \n關於B型實驗室 B Lab ® \nB型實驗室是一家非營利組織，總部設立於美國賓夕法尼亞州，致力使「人們的商業活動發揮對社會及環境的正面影響力」(people using business as a force for good ™)，與全球夥伴創建並維護管理 – 商業影響力評估(B Impact Assessment\, BIA)及SDGS行動經理(SDGS Action Manager)之標準及管理工具，共有超過二十萬的企業使用。透過推動B型企業認證 (B Corporation®\, B Corps™)，願景是使企業的目標不只是「成為世界最好的企業」，而是「對世界最好的企業」，因此能使所有人類及環境擁有一個包容、平等及生生不息的經濟體。
URL:https://bcorporation.tw/event-date/2025-bcorps-briefing-session/
CATEGORIES:認識B型企業
ATTACH;FMTTYPE=image/jpeg:https://bcorporation.tw/wp-content/uploads/2025/03/B型企業線上說明會_Banner.jpg
END:VEVENT
END:VCALENDAR